BEGIN:VCALENDAR
VERSION:2.0
PRODID:-//Stadtbühne Wörgl - ECPv6.15.13.1//NONSGML v1.0//EN
CALSCALE:GREGORIAN
METHOD:PUBLISH
X-ORIGINAL-URL:https://www.stadtbuehne.info
X-WR-CALDESC:Veranstaltungen für Stadtbühne Wörgl
REFRESH-INTERVAL;VALUE=DURATION:PT1H
X-Robots-Tag:noindex
X-PUBLISHED-TTL:PT1H
BEGIN:VTIMEZONE
TZID:Europe/Berlin
BEGIN:DAYLIGHT
TZOFFSETFROM:+0100
TZOFFSETTO:+0200
TZNAME:CEST
DTSTART:20220327T010000
END:DAYLIGHT
BEGIN:STANDARD
TZOFFSETFROM:+0200
TZOFFSETTO:+0100
TZNAME:CET
DTSTART:20221030T010000
END:STANDARD
BEGIN:DAYLIGHT
TZOFFSETFROM:+0100
TZOFFSETTO:+0200
TZNAME:CEST
DTSTART:20230326T010000
END:DAYLIGHT
BEGIN:STANDARD
TZOFFSETFROM:+0200
TZOFFSETTO:+0100
TZNAME:CET
DTSTART:20231029T010000
END:STANDARD
BEGIN:DAYLIGHT
TZOFFSETFROM:+0100
TZOFFSETTO:+0200
TZNAME:CEST
DTSTART:20240331T010000
END:DAYLIGHT
BEGIN:STANDARD
TZOFFSETFROM:+0200
TZOFFSETTO:+0100
TZNAME:CET
DTSTART:20241027T010000
END:STANDARD
END:VTIMEZONE
BEGIN:VEVENT
DTSTART;TZID=Europe/Berlin:20230517T200000
DTEND;TZID=Europe/Berlin:20230517T223000
DTSTAMP:20260425T035633
CREATED:20230503T122957Z
LAST-MODIFIED:20230503T122957Z
UID:1552-1684353600-1684362600@www.stadtbuehne.info
SUMMARY:Außer Kontrolle
DESCRIPTION:Kartenreservierungen unter Tickethome.\nEintritt Vorauskasse: € 10\,- \nEintritt Abendkasse: € 12\,-
URL:https://www.stadtbuehne.info/termin/ausser-kontrolle-8/
LOCATION:Volkshaus Wörgl\, Anton-Bruckner-Straße 10\, Wörgl\, Tirol\, 6300\, Österreich
ATTACH;FMTTYPE=image/jpeg:https://www.stadtbuehne.info/wp-content/uploads/2023/03/Stadtbühne-Frühahr-2023_015.jpg
END:VEVENT
END:VCALENDAR