BEGIN:VCALENDAR
VERSION:2.0
PRODID:-//Stadtbühne Wörgl - ECPv6.15.13.1//NONSGML v1.0//EN
CALSCALE:GREGORIAN
METHOD:PUBLISH
X-WR-CALNAME:Stadtbühne Wörgl
X-ORIGINAL-URL:https://www.stadtbuehne.info
X-WR-CALDESC:Veranstaltungen für Stadtbühne Wörgl
REFRESH-INTERVAL;VALUE=DURATION:PT1H
X-Robots-Tag:noindex
X-PUBLISHED-TTL:PT1H
BEGIN:VTIMEZONE
TZID:Europe/Berlin
BEGIN:DAYLIGHT
TZOFFSETFROM:+0100
TZOFFSETTO:+0200
TZNAME:CEST
DTSTART:20230326T010000
END:DAYLIGHT
BEGIN:STANDARD
TZOFFSETFROM:+0200
TZOFFSETTO:+0100
TZNAME:CET
DTSTART:20231029T010000
END:STANDARD
BEGIN:DAYLIGHT
TZOFFSETFROM:+0100
TZOFFSETTO:+0200
TZNAME:CEST
DTSTART:20240331T010000
END:DAYLIGHT
BEGIN:STANDARD
TZOFFSETFROM:+0200
TZOFFSETTO:+0100
TZNAME:CET
DTSTART:20241027T010000
END:STANDARD
BEGIN:DAYLIGHT
TZOFFSETFROM:+0100
TZOFFSETTO:+0200
TZNAME:CEST
DTSTART:20250330T010000
END:DAYLIGHT
BEGIN:STANDARD
TZOFFSETFROM:+0200
TZOFFSETTO:+0100
TZNAME:CET
DTSTART:20251026T010000
END:STANDARD
END:VTIMEZONE
BEGIN:VEVENT
DTSTART;TZID=Europe/Berlin:20240427T200000
DTEND;TZID=Europe/Berlin:20240427T213000
DTSTAMP:20260424T123128
CREATED:20240417T200225Z
LAST-MODIFIED:20240417T200225Z
UID:1640-1714248000-1714253400@www.stadtbuehne.info
SUMMARY:Alles auf Anfang
DESCRIPTION:Kartenreservierungen unter Tickethome.\nEintritt Vorauskasse: € 12\,- \nEintritt Abendkasse: € 14\,-
URL:https://www.stadtbuehne.info/termin/alles-auf-anfang-7/
LOCATION:Volkshaus Wörgl\, Anton-Bruckner-Straße 10\, Wörgl\, Tirol\, 6300\, Österreich
ATTACH;FMTTYPE=image/jpeg:https://www.stadtbuehne.info/wp-content/uploads/2024/03/Frühjahr-2024_013.jpg
END:VEVENT
END:VCALENDAR