BEGIN:VCALENDAR
VERSION:2.0
PRODID:-//Stadtbühne Wörgl - ECPv6.15.13.1//NONSGML v1.0//EN
CALSCALE:GREGORIAN
METHOD:PUBLISH
X-ORIGINAL-URL:https://www.stadtbuehne.info
X-WR-CALDESC:Veranstaltungen für Stadtbühne Wörgl
REFRESH-INTERVAL;VALUE=DURATION:PT1H
X-Robots-Tag:noindex
X-PUBLISHED-TTL:PT1H
BEGIN:VTIMEZONE
TZID:Europe/Berlin
BEGIN:DAYLIGHT
TZOFFSETFROM:+0100
TZOFFSETTO:+0200
TZNAME:CEST
DTSTART:20240331T010000
END:DAYLIGHT
BEGIN:STANDARD
TZOFFSETFROM:+0200
TZOFFSETTO:+0100
TZNAME:CET
DTSTART:20241027T010000
END:STANDARD
BEGIN:DAYLIGHT
TZOFFSETFROM:+0100
TZOFFSETTO:+0200
TZNAME:CEST
DTSTART:20250330T010000
END:DAYLIGHT
BEGIN:STANDARD
TZOFFSETFROM:+0200
TZOFFSETTO:+0100
TZNAME:CET
DTSTART:20251026T010000
END:STANDARD
BEGIN:DAYLIGHT
TZOFFSETFROM:+0100
TZOFFSETTO:+0200
TZNAME:CEST
DTSTART:20260329T010000
END:DAYLIGHT
BEGIN:STANDARD
TZOFFSETFROM:+0200
TZOFFSETTO:+0100
TZNAME:CET
DTSTART:20261025T010000
END:STANDARD
END:VTIMEZONE
BEGIN:VEVENT
DTSTART;TZID=Europe/Berlin:20251211T180000
DTEND;TZID=Europe/Berlin:20251211T190000
DTSTAMP:20260423T092832
CREATED:20251021T082740Z
LAST-MODIFIED:20251021T082740Z
UID:1854-1765476000-1765479600@www.stadtbuehne.info
SUMMARY:König Immermüd
DESCRIPTION:Kartenreservierungen unter Tickethome.\nEintritt Vorauskasse: € 7\,-\nEintritt Kasse vor Ort: € 9\,-
URL:https://www.stadtbuehne.info/termin/koenig-immermued-3/
LOCATION:Volkshaus Wörgl\, Anton-Bruckner-Straße 10\, Wörgl\, Tirol\, 6300\, Österreich
ATTACH;FMTTYPE=image/jpeg:https://www.stadtbuehne.info/wp-content/uploads/2025/10/Maerchen-2025_010.jpg
END:VEVENT
END:VCALENDAR