BEGIN:VCALENDAR
VERSION:2.0
PRODID:-//Stadtbühne Wörgl - ECPv6.15.13.1//NONSGML v1.0//EN
CALSCALE:GREGORIAN
METHOD:PUBLISH
X-WR-CALNAME:Stadtbühne Wörgl
X-ORIGINAL-URL:https://www.stadtbuehne.info
X-WR-CALDESC:Veranstaltungen für Stadtbühne Wörgl
REFRESH-INTERVAL;VALUE=DURATION:PT1H
X-Robots-Tag:noindex
X-PUBLISHED-TTL:PT1H
BEGIN:VTIMEZONE
TZID:Europe/Berlin
BEGIN:DAYLIGHT
TZOFFSETFROM:+0100
TZOFFSETTO:+0200
TZNAME:CEST
DTSTART:20200329T010000
END:DAYLIGHT
BEGIN:STANDARD
TZOFFSETFROM:+0200
TZOFFSETTO:+0100
TZNAME:CET
DTSTART:20201025T010000
END:STANDARD
BEGIN:DAYLIGHT
TZOFFSETFROM:+0100
TZOFFSETTO:+0200
TZNAME:CEST
DTSTART:20210328T010000
END:DAYLIGHT
BEGIN:STANDARD
TZOFFSETFROM:+0200
TZOFFSETTO:+0100
TZNAME:CET
DTSTART:20211031T010000
END:STANDARD
BEGIN:DAYLIGHT
TZOFFSETFROM:+0100
TZOFFSETTO:+0200
TZNAME:CEST
DTSTART:20220327T010000
END:DAYLIGHT
BEGIN:STANDARD
TZOFFSETFROM:+0200
TZOFFSETTO:+0100
TZNAME:CET
DTSTART:20221030T010000
END:STANDARD
END:VTIMEZONE
BEGIN:VEVENT
DTSTART;TZID=Europe/Berlin:20211105T190000
DTEND;TZID=Europe/Berlin:20211105T210000
DTSTAMP:20260426T024232
CREATED:20210917T183606Z
LAST-MODIFIED:20211008T074441Z
UID:1402-1636138800-1636146000@www.stadtbuehne.info
SUMMARY:Vor dem Erben musst du sterben | Premiere
DESCRIPTION:Kartenreservierungen unter Tickethome. \nEintritt Vorauskasse: € 10\,- \nEintritt Abendkasse: € 12\,-
URL:https://www.stadtbuehne.info/termin/vor-dem-erben-musst-du-sterben-premiere/
LOCATION:Volkshaus Wörgl\, Anton-Bruckner-Straße 10\, Wörgl\, Tirol\, 6300\, Österreich
ATTACH;FMTTYPE=image/jpeg:https://www.stadtbuehne.info/wp-content/uploads/2021/09/Presse-Herbst-2021_001b-e1631903752962.jpg
END:VEVENT
BEGIN:VEVENT
DTSTART;TZID=Europe/Berlin:20211107T180000
DTEND;TZID=Europe/Berlin:20211107T203000
DTSTAMP:20260426T024232
CREATED:20211008T072212Z
LAST-MODIFIED:20211008T074505Z
UID:1426-1636308000-1636317000@www.stadtbuehne.info
SUMMARY:Vor dem Erben musst du sterben
DESCRIPTION:Kartenreservierungen unter Tickethome. \nEintritt Vorauskasse: € 10\,- \nEintritt Abendkasse: € 12\,-
URL:https://www.stadtbuehne.info/termin/vor-dem-erben-musst-du-sterben/
LOCATION:Volkshaus Wörgl\, Anton-Bruckner-Straße 10\, Wörgl\, Tirol\, 6300\, Österreich
ATTACH;FMTTYPE=image/jpeg:https://www.stadtbuehne.info/wp-content/uploads/2021/09/Presse-Herbst-2021_010.jpg
END:VEVENT
BEGIN:VEVENT
DTSTART;TZID=Europe/Berlin:20211113T190000
DTEND;TZID=Europe/Berlin:20211113T213000
DTSTAMP:20260426T024232
CREATED:20211008T072338Z
LAST-MODIFIED:20211008T074534Z
UID:1428-1636830000-1636839000@www.stadtbuehne.info
SUMMARY:Vor dem Erben musst du sterben
DESCRIPTION:Kartenreservierungen unter Tickethome. \nEintritt Vorauskasse: € 10\,- \nEintritt Abendkasse: € 12\,-
URL:https://www.stadtbuehne.info/termin/vor-dem-erben-musst-du-sterben-2/
LOCATION:Volkshaus Wörgl\, Anton-Bruckner-Straße 10\, Wörgl\, Tirol\, 6300\, Österreich
ATTACH;FMTTYPE=image/jpeg:https://www.stadtbuehne.info/wp-content/uploads/2021/09/Presse-Herbst-2021_007.jpg
END:VEVENT
BEGIN:VEVENT
DTSTART;TZID=Europe/Berlin:20211114T180000
DTEND;TZID=Europe/Berlin:20211114T203000
DTSTAMP:20260426T024232
CREATED:20211008T073440Z
LAST-MODIFIED:20211008T074605Z
UID:1430-1636912800-1636921800@www.stadtbuehne.info
SUMMARY:Vor dem Erben musst du sterben
DESCRIPTION:Kartenreservierungen unter Tickethome. \nEintritt Vorauskasse: € 10\,- \nEintritt Abendkasse: € 12\,-
URL:https://www.stadtbuehne.info/termin/vor-dem-erben-musst-du-sterben-3/
LOCATION:Volkshaus Wörgl\, Anton-Bruckner-Straße 10\, Wörgl\, Tirol\, 6300\, Österreich
ATTACH;FMTTYPE=image/jpeg:https://www.stadtbuehne.info/wp-content/uploads/2021/09/Presse-Herbst-2021_013.jpg
END:VEVENT
BEGIN:VEVENT
DTSTART;TZID=Europe/Berlin:20211117T190000
DTEND;TZID=Europe/Berlin:20211117T213000
DTSTAMP:20260426T024232
CREATED:20211008T073646Z
LAST-MODIFIED:20211008T074633Z
UID:1432-1637175600-1637184600@www.stadtbuehne.info
SUMMARY:Vor dem Erben musst du sterben
DESCRIPTION:Kartenreservierungen unter Tickethome. \nEintritt Vorauskasse: € 10\,- \nEintritt Abendkasse: € 12\,-
URL:https://www.stadtbuehne.info/termin/vor-dem-erben-musst-du-sterben-4/
LOCATION:Volkshaus Wörgl\, Anton-Bruckner-Straße 10\, Wörgl\, Tirol\, 6300\, Österreich
ATTACH;FMTTYPE=image/jpeg:https://www.stadtbuehne.info/wp-content/uploads/2021/09/Presse-Herbst-2021_005.jpg
END:VEVENT
BEGIN:VEVENT
DTSTART;TZID=Europe/Berlin:20211119T190000
DTEND;TZID=Europe/Berlin:20211119T213000
DTSTAMP:20260426T024232
CREATED:20211008T073818Z
LAST-MODIFIED:20211008T074656Z
UID:1434-1637348400-1637357400@www.stadtbuehne.info
SUMMARY:Vor dem Erben musst du sterben
DESCRIPTION:Kartenreservierungen unter Tickethome. \nEintritt Vorauskasse: € 10\,- \nEintritt Abendkasse: € 12\,-
URL:https://www.stadtbuehne.info/termin/vor-dem-erben-musst-du-sterben-5/
LOCATION:Volkshaus Wörgl\, Anton-Bruckner-Straße 10\, Wörgl\, Tirol\, 6300\, Österreich
ATTACH;FMTTYPE=image/jpeg:https://www.stadtbuehne.info/wp-content/uploads/2021/09/Presse-Herbst-2021_011.jpg
END:VEVENT
BEGIN:VEVENT
DTSTART;TZID=Europe/Berlin:20211120T190000
DTEND;TZID=Europe/Berlin:20211120T213000
DTSTAMP:20260426T024232
CREATED:20211104T184805Z
LAST-MODIFIED:20211104T184805Z
UID:1449-1637434800-1637443800@www.stadtbuehne.info
SUMMARY:Vor dem Erben musst du sterben
DESCRIPTION:Kartenreservierungen unter Tickethome. \nEintritt Vorauskasse: € 10\,- \nEintritt Abendkasse: € 12\,-
URL:https://www.stadtbuehne.info/termin/vor-dem-erben-musst-du-sterben-6/
LOCATION:Volkshaus Wörgl\, Anton-Bruckner-Straße 10\, Wörgl\, Tirol\, 6300\, Österreich
ATTACH;FMTTYPE=image/jpeg:https://www.stadtbuehne.info/wp-content/uploads/2021/09/Presse-Herbst-2021_012.jpg
END:VEVENT
END:VCALENDAR