BEGIN:VCALENDAR
VERSION:2.0
PRODID:-//Stadtbühne Wörgl - ECPv6.15.13.1//NONSGML v1.0//EN
CALSCALE:GREGORIAN
METHOD:PUBLISH
X-ORIGINAL-URL:https://www.stadtbuehne.info
X-WR-CALDESC:Veranstaltungen für Stadtbühne Wörgl
REFRESH-INTERVAL;VALUE=DURATION:PT1H
X-Robots-Tag:noindex
X-PUBLISHED-TTL:PT1H
BEGIN:VTIMEZONE
TZID:Europe/Berlin
BEGIN:DAYLIGHT
TZOFFSETFROM:+0100
TZOFFSETTO:+0200
TZNAME:CEST
DTSTART:20220327T010000
END:DAYLIGHT
BEGIN:STANDARD
TZOFFSETFROM:+0200
TZOFFSETTO:+0100
TZNAME:CET
DTSTART:20221030T010000
END:STANDARD
BEGIN:DAYLIGHT
TZOFFSETFROM:+0100
TZOFFSETTO:+0200
TZNAME:CEST
DTSTART:20230326T010000
END:DAYLIGHT
BEGIN:STANDARD
TZOFFSETFROM:+0200
TZOFFSETTO:+0100
TZNAME:CET
DTSTART:20231029T010000
END:STANDARD
BEGIN:DAYLIGHT
TZOFFSETFROM:+0100
TZOFFSETTO:+0200
TZNAME:CEST
DTSTART:20240331T010000
END:DAYLIGHT
BEGIN:STANDARD
TZOFFSETFROM:+0200
TZOFFSETTO:+0100
TZNAME:CET
DTSTART:20241027T010000
END:STANDARD
END:VTIMEZONE
BEGIN:VEVENT
DTSTART;TZID=Europe/Berlin:20230506T200000
DTEND;TZID=Europe/Berlin:20230506T223000
DTSTAMP:20260425T023025
CREATED:20230312T124024Z
LAST-MODIFIED:20230319T172406Z
UID:1535-1683403200-1683412200@www.stadtbuehne.info
SUMMARY:Außer Kontrolle
DESCRIPTION:Kartenreservierungen unter Tickethome.\nEintritt Vorauskasse: € 10\,- \nEintritt Abendkasse: € 12\,-
URL:https://www.stadtbuehne.info/termin/ausser-kontrolle-3/
LOCATION:Volkshaus Wörgl\, Anton-Bruckner-Straße 10\, Wörgl\, Tirol\, 6300\, Österreich
ATTACH;FMTTYPE=image/jpeg:https://www.stadtbuehne.info/wp-content/uploads/2023/03/Stadtbühne-Frühahr-2023_010.jpg
END:VEVENT
BEGIN:VEVENT
DTSTART;TZID=Europe/Berlin:20230507T190000
DTEND;TZID=Europe/Berlin:20230507T213000
DTSTAMP:20260425T023025
CREATED:20230312T124126Z
LAST-MODIFIED:20230319T172424Z
UID:1537-1683486000-1683495000@www.stadtbuehne.info
SUMMARY:Außer Kontrolle
DESCRIPTION:Kartenreservierungen unter Tickethome.\nEintritt Vorauskasse: € 10\,- \nEintritt Abendkasse: € 12\,-
URL:https://www.stadtbuehne.info/termin/ausser-kontrolle-4/
LOCATION:Volkshaus Wörgl\, Anton-Bruckner-Straße 10\, Wörgl\, Tirol\, 6300\, Österreich
ATTACH;FMTTYPE=image/jpeg:https://www.stadtbuehne.info/wp-content/uploads/2023/03/Stadtbühne-Frühahr-2023_019.jpg
END:VEVENT
BEGIN:VEVENT
DTSTART;TZID=Europe/Berlin:20230512T200000
DTEND;TZID=Europe/Berlin:20230512T223000
DTSTAMP:20260425T023025
CREATED:20230312T124221Z
LAST-MODIFIED:20230319T172439Z
UID:1539-1683921600-1683930600@www.stadtbuehne.info
SUMMARY:Außer Kontrolle
DESCRIPTION:Kartenreservierungen unter Tickethome.\nEintritt Vorauskasse: € 10\,- \nEintritt Abendkasse: € 12\,-
URL:https://www.stadtbuehne.info/termin/ausser-kontrolle-5/
LOCATION:Volkshaus Wörgl\, Anton-Bruckner-Straße 10\, Wörgl\, Tirol\, 6300\, Österreich
ATTACH;FMTTYPE=image/jpeg:https://www.stadtbuehne.info/wp-content/uploads/2023/03/Stadtbühne-Frühahr-2023_017.jpg
END:VEVENT
BEGIN:VEVENT
DTSTART;TZID=Europe/Berlin:20230513T200000
DTEND;TZID=Europe/Berlin:20230513T223000
DTSTAMP:20260425T023025
CREATED:20230312T124342Z
LAST-MODIFIED:20230319T172458Z
UID:1541-1684008000-1684017000@www.stadtbuehne.info
SUMMARY:Außer Kontrolle
DESCRIPTION:Kartenreservierungen unter Tickethome.\nEintritt Vorauskasse: € 10\,- \nEintritt Abendkasse: € 12\,-
URL:https://www.stadtbuehne.info/termin/ausser-kontrolle-6/
LOCATION:Volkshaus Wörgl\, Anton-Bruckner-Straße 10\, Wörgl\, Tirol\, 6300\, Österreich
ATTACH;FMTTYPE=image/jpeg:https://www.stadtbuehne.info/wp-content/uploads/2023/03/Stadtbühne-Frühahr-2023_012.jpg
END:VEVENT
BEGIN:VEVENT
DTSTART;TZID=Europe/Berlin:20230514T190000
DTEND;TZID=Europe/Berlin:20230514T213000
DTSTAMP:20260425T023025
CREATED:20230503T122901Z
LAST-MODIFIED:20230503T123653Z
UID:1550-1684090800-1684099800@www.stadtbuehne.info
SUMMARY:Außer Kontrolle
DESCRIPTION:Kartenreservierungen unter Tickethome.\nEintritt Vorauskasse: € 10\,- \nEintritt Abendkasse: € 12\,-
URL:https://www.stadtbuehne.info/termin/ausser-kontrolle-7/
LOCATION:Volkshaus Wörgl\, Anton-Bruckner-Straße 10\, Wörgl\, Tirol\, 6300\, Österreich
ATTACH;FMTTYPE=image/jpeg:https://www.stadtbuehne.info/wp-content/uploads/2023/05/Stadtbühne-Frühahr-2023_009.jpg
END:VEVENT
BEGIN:VEVENT
DTSTART;TZID=Europe/Berlin:20230517T200000
DTEND;TZID=Europe/Berlin:20230517T223000
DTSTAMP:20260425T023025
CREATED:20230503T122957Z
LAST-MODIFIED:20230503T122957Z
UID:1552-1684353600-1684362600@www.stadtbuehne.info
SUMMARY:Außer Kontrolle
DESCRIPTION:Kartenreservierungen unter Tickethome.\nEintritt Vorauskasse: € 10\,- \nEintritt Abendkasse: € 12\,-
URL:https://www.stadtbuehne.info/termin/ausser-kontrolle-8/
LOCATION:Volkshaus Wörgl\, Anton-Bruckner-Straße 10\, Wörgl\, Tirol\, 6300\, Österreich
ATTACH;FMTTYPE=image/jpeg:https://www.stadtbuehne.info/wp-content/uploads/2023/03/Stadtbühne-Frühahr-2023_015.jpg
END:VEVENT
END:VCALENDAR