BEGIN:VCALENDAR
VERSION:2.0
PRODID:-//Stadtbühne Wörgl - ECPv6.15.13.1//NONSGML v1.0//EN
CALSCALE:GREGORIAN
METHOD:PUBLISH
X-ORIGINAL-URL:https://www.stadtbuehne.info
X-WR-CALDESC:Veranstaltungen für Stadtbühne Wörgl
REFRESH-INTERVAL;VALUE=DURATION:PT1H
X-Robots-Tag:noindex
X-PUBLISHED-TTL:PT1H
BEGIN:VTIMEZONE
TZID:Europe/Berlin
BEGIN:DAYLIGHT
TZOFFSETFROM:+0100
TZOFFSETTO:+0200
TZNAME:CEST
DTSTART:20220327T010000
END:DAYLIGHT
BEGIN:STANDARD
TZOFFSETFROM:+0200
TZOFFSETTO:+0100
TZNAME:CET
DTSTART:20221030T010000
END:STANDARD
BEGIN:DAYLIGHT
TZOFFSETFROM:+0100
TZOFFSETTO:+0200
TZNAME:CEST
DTSTART:20230326T010000
END:DAYLIGHT
BEGIN:STANDARD
TZOFFSETFROM:+0200
TZOFFSETTO:+0100
TZNAME:CET
DTSTART:20231029T010000
END:STANDARD
BEGIN:DAYLIGHT
TZOFFSETFROM:+0100
TZOFFSETTO:+0200
TZNAME:CEST
DTSTART:20240331T010000
END:DAYLIGHT
BEGIN:STANDARD
TZOFFSETFROM:+0200
TZOFFSETTO:+0100
TZNAME:CET
DTSTART:20241027T010000
END:STANDARD
END:VTIMEZONE
BEGIN:VEVENT
DTSTART;TZID=Europe/Berlin:20231112T160000
DTEND;TZID=Europe/Berlin:20231112T170000
DTSTAMP:20260424T181033
CREATED:20231018T085649Z
LAST-MODIFIED:20231018T085649Z
UID:1581-1699804800-1699808400@www.stadtbuehne.info
SUMMARY:Frau Holle und der Weihnachtsmann (Premiere)
DESCRIPTION:Kartenreservierungen unter Tickethome.\nEintritt Vorauskasse: € 6\,- \nEintritt Abendkasse: € 8\,-
URL:https://www.stadtbuehne.info/termin/frau-holle-und-der-weihnachtsmann-premiere/
LOCATION:Volkshaus Wörgl\, Anton-Bruckner-Straße 10\, Wörgl\, Tirol\, 6300\, Österreich
ATTACH;FMTTYPE=image/jpeg:https://www.stadtbuehne.info/wp-content/uploads/2023/10/Stadtbühne-Märchen-2023_002-1-1.jpg
END:VEVENT
BEGIN:VEVENT
DTSTART;TZID=Europe/Berlin:20231117T180000
DTEND;TZID=Europe/Berlin:20231117T190000
DTSTAMP:20260424T181033
CREATED:20231018T085802Z
LAST-MODIFIED:20231018T085845Z
UID:1584-1700244000-1700247600@www.stadtbuehne.info
SUMMARY:Frau Holle und der Weihnachtsmann
DESCRIPTION:Kartenreservierungen unter Tickethome.\nEintritt Vorauskasse: € 6\,- \nEintritt Abendkasse: € 8\,-
URL:https://www.stadtbuehne.info/termin/frau-holle-und-der-weihnachtsmann/
LOCATION:Volkshaus Wörgl\, Anton-Bruckner-Straße 10\, Wörgl\, Tirol\, 6300\, Österreich
ATTACH;FMTTYPE=image/jpeg:https://www.stadtbuehne.info/wp-content/uploads/2023/10/Stadtbühne-Märchen-2023_012.jpg
END:VEVENT
BEGIN:VEVENT
DTSTART;TZID=Europe/Berlin:20231118T160000
DTEND;TZID=Europe/Berlin:20231118T170000
DTSTAMP:20260424T181033
CREATED:20231018T085939Z
LAST-MODIFIED:20231018T085939Z
UID:1587-1700323200-1700326800@www.stadtbuehne.info
SUMMARY:Frau Holle und der Weihnachtsmann
DESCRIPTION:Kartenreservierungen unter Tickethome.\nEintritt Vorauskasse: € 6\,- \nEintritt Abendkasse: € 8\,-
URL:https://www.stadtbuehne.info/termin/frau-holle-und-der-weihnachtsmann-2/
LOCATION:Volkshaus Wörgl\, Anton-Bruckner-Straße 10\, Wörgl\, Tirol\, 6300\, Österreich
ATTACH;FMTTYPE=image/jpeg:https://www.stadtbuehne.info/wp-content/uploads/2023/10/Stadtbühne-Märchen-2023_010.jpg
END:VEVENT
BEGIN:VEVENT
DTSTART;TZID=Europe/Berlin:20231126T160000
DTEND;TZID=Europe/Berlin:20231126T170000
DTSTAMP:20260424T181033
CREATED:20231018T090026Z
LAST-MODIFIED:20231018T090026Z
UID:1589-1701014400-1701018000@www.stadtbuehne.info
SUMMARY:Frau Holle und der Weihnachtsmann
DESCRIPTION:Kartenreservierungen unter Tickethome.\nEintritt Vorauskasse: € 6\,- \nEintritt Abendkasse: € 8\,-
URL:https://www.stadtbuehne.info/termin/frau-holle-und-der-weihnachtsmann-3/
LOCATION:Volkshaus Wörgl\, Anton-Bruckner-Straße 10\, Wörgl\, Tirol\, 6300\, Österreich
ATTACH;FMTTYPE=image/jpeg:https://www.stadtbuehne.info/wp-content/uploads/2023/10/Stadtbühne-Märchen-2023_011.jpg
END:VEVENT
END:VCALENDAR