BEGIN:VCALENDAR
VERSION:2.0
PRODID:-//Stadtbühne Wörgl - ECPv6.15.13.1//NONSGML v1.0//EN
CALSCALE:GREGORIAN
METHOD:PUBLISH
X-WR-CALNAME:Stadtbühne Wörgl
X-ORIGINAL-URL:https://www.stadtbuehne.info
X-WR-CALDESC:Veranstaltungen für Stadtbühne Wörgl
REFRESH-INTERVAL;VALUE=DURATION:PT1H
X-Robots-Tag:noindex
X-PUBLISHED-TTL:PT1H
BEGIN:VTIMEZONE
TZID:Europe/Berlin
BEGIN:DAYLIGHT
TZOFFSETFROM:+0100
TZOFFSETTO:+0200
TZNAME:CEST
DTSTART:20230326T010000
END:DAYLIGHT
BEGIN:STANDARD
TZOFFSETFROM:+0200
TZOFFSETTO:+0100
TZNAME:CET
DTSTART:20231029T010000
END:STANDARD
BEGIN:DAYLIGHT
TZOFFSETFROM:+0100
TZOFFSETTO:+0200
TZNAME:CEST
DTSTART:20240331T010000
END:DAYLIGHT
BEGIN:STANDARD
TZOFFSETFROM:+0200
TZOFFSETTO:+0100
TZNAME:CET
DTSTART:20241027T010000
END:STANDARD
BEGIN:DAYLIGHT
TZOFFSETFROM:+0100
TZOFFSETTO:+0200
TZNAME:CEST
DTSTART:20250330T010000
END:DAYLIGHT
BEGIN:STANDARD
TZOFFSETFROM:+0200
TZOFFSETTO:+0100
TZNAME:CET
DTSTART:20251026T010000
END:STANDARD
END:VTIMEZONE
BEGIN:VEVENT
DTSTART;TZID=Europe/Berlin:20241201T170000
DTEND;TZID=Europe/Berlin:20241201T180000
DTSTAMP:20260424T001154
CREATED:20241121T074915Z
LAST-MODIFIED:20241121T075001Z
UID:1661-1733072400-1733076000@www.stadtbuehne.info
SUMMARY:Theodor\, der kleine Engel & Stille Nacht oder die verärgerte Kirchenmaus
DESCRIPTION:Kartenreservierungen unter Tickethome.\nEintritt Vorauskasse: € 6\,- \nEintritt Kasse vor Ort: € 8\,-
URL:https://www.stadtbuehne.info/termin/theodor-der-kleine-engel-stille-nacht-oder-die-veraergerte-kirchenmaus/
LOCATION:Volkshaus Wörgl\, Anton-Bruckner-Straße 10\, Wörgl\, Tirol\, 6300\, Österreich
ATTACH;FMTTYPE=image/jpeg:https://www.stadtbuehne.info/wp-content/uploads/2024/11/01-Maerchen-2024_005.jpg
END:VEVENT
BEGIN:VEVENT
DTSTART;TZID=Europe/Berlin:20241208T170000
DTEND;TZID=Europe/Berlin:20241208T180000
DTSTAMP:20260424T001154
CREATED:20241121T075134Z
LAST-MODIFIED:20241121T075134Z
UID:1682-1733677200-1733680800@www.stadtbuehne.info
SUMMARY:Theodor\, der kleine Engel & Stille Nacht oder die verärgerte Kirchenmaus
DESCRIPTION:Kartenreservierungen unter Tickethome.\nEintritt Vorauskasse: € 6\,- \nEintritt Kasse vor Ort: € 8\,-
URL:https://www.stadtbuehne.info/termin/theodor-der-kleine-engel-stille-nacht-oder-die-veraergerte-kirchenmaus-2/
LOCATION:Volkshaus Wörgl\, Anton-Bruckner-Straße 10\, Wörgl\, Tirol\, 6300\, Österreich
ATTACH;FMTTYPE=image/jpeg:https://www.stadtbuehne.info/wp-content/uploads/2024/11/01-Maerchen-2024_019.jpg
END:VEVENT
BEGIN:VEVENT
DTSTART;TZID=Europe/Berlin:20241215T143000
DTEND;TZID=Europe/Berlin:20241215T153000
DTSTAMP:20260424T001154
CREATED:20241121T075250Z
LAST-MODIFIED:20241121T075250Z
UID:1684-1734273000-1734276600@www.stadtbuehne.info
SUMMARY:Theodor\, der kleine Engel & Stille Nacht oder die verärgerte Kirchenmaus
DESCRIPTION:Kartenreservierungen unter Tickethome.\nEintritt Vorauskasse: € 6\,- \nEintritt Kasse vor Ort: € 8\,-
URL:https://www.stadtbuehne.info/termin/theodor-der-kleine-engel-stille-nacht-oder-die-veraergerte-kirchenmaus-3/
LOCATION:Volkshaus Wörgl\, Anton-Bruckner-Straße 10\, Wörgl\, Tirol\, 6300\, Österreich
ATTACH;FMTTYPE=image/jpeg:https://www.stadtbuehne.info/wp-content/uploads/2024/11/01-Maerchen-2024_007.jpg
END:VEVENT
BEGIN:VEVENT
DTSTART;TZID=Europe/Berlin:20241215T170000
DTEND;TZID=Europe/Berlin:20241215T180000
DTSTAMP:20260424T001154
CREATED:20241121T075454Z
LAST-MODIFIED:20241121T075454Z
UID:1687-1734282000-1734285600@www.stadtbuehne.info
SUMMARY:Theodor\, der kleine Engel & Stille Nacht oder die verärgerte Kirchenmaus
DESCRIPTION:Kartenreservierungen unter Tickethome.\nEintritt Vorauskasse: € 6\,- \nEintritt Kasse vor Ort: € 8\,-
URL:https://www.stadtbuehne.info/termin/theodor-der-kleine-engel-stille-nacht-oder-die-veraergerte-kirchenmaus-4/
LOCATION:Volkshaus Wörgl\, Anton-Bruckner-Straße 10\, Wörgl\, Tirol\, 6300\, Österreich
ATTACH;FMTTYPE=image/jpeg:https://www.stadtbuehne.info/wp-content/uploads/2024/11/01-Maerchen-2024_022.jpg
END:VEVENT
BEGIN:VEVENT
DTSTART;TZID=Europe/Berlin:20241222T143000
DTEND;TZID=Europe/Berlin:20241222T153000
DTSTAMP:20260424T001154
CREATED:20241121T082706Z
LAST-MODIFIED:20241121T082706Z
UID:1690-1734877800-1734881400@www.stadtbuehne.info
SUMMARY:Theodor\, der kleine Engel & Stille Nacht oder die verärgerte Kirchenmaus
DESCRIPTION:Kartenreservierungen unter Tickethome.\nEintritt Vorauskasse: € 6\,- \nEintritt Kasse vor Ort: € 8\,-
URL:https://www.stadtbuehne.info/termin/theodor-der-kleine-engel-stille-nacht-oder-die-veraergerte-kirchenmaus-5/
LOCATION:Volkshaus Wörgl\, Anton-Bruckner-Straße 10\, Wörgl\, Tirol\, 6300\, Österreich
ATTACH;FMTTYPE=image/jpeg:https://www.stadtbuehne.info/wp-content/uploads/2024/11/01-Maerchen-2024_014.jpg
END:VEVENT
END:VCALENDAR